BEGIN:VCALENDAR
VERSION:2.0
PRODID:-//Cowley Academy - ECPv6.15.20//NONSGML v1.0//EN
CALSCALE:GREGORIAN
METHOD:PUBLISH
X-ORIGINAL-URL:https://www.cowleyacademy.org.uk
X-WR-CALDESC:Events for Cowley Academy
REFRESH-INTERVAL;VALUE=DURATION:PT1H
X-Robots-Tag:noindex
X-PUBLISHED-TTL:PT1H
BEGIN:VTIMEZONE
TZID:Europe/Paris
BEGIN:DAYLIGHT
TZOFFSETFROM:+0100
TZOFFSETTO:+0200
TZNAME:CEST
DTSTART:20250330T010000
END:DAYLIGHT
BEGIN:STANDARD
TZOFFSETFROM:+0200
TZOFFSETTO:+0100
TZNAME:CET
DTSTART:20251026T010000
END:STANDARD
BEGIN:DAYLIGHT
TZOFFSETFROM:+0100
TZOFFSETTO:+0200
TZNAME:CEST
DTSTART:20260329T010000
END:DAYLIGHT
BEGIN:STANDARD
TZOFFSETFROM:+0200
TZOFFSETTO:+0100
TZNAME:CET
DTSTART:20261025T010000
END:STANDARD
BEGIN:DAYLIGHT
TZOFFSETFROM:+0100
TZOFFSETTO:+0200
TZNAME:CEST
DTSTART:20270328T010000
END:DAYLIGHT
BEGIN:STANDARD
TZOFFSETFROM:+0200
TZOFFSETTO:+0100
TZNAME:CET
DTSTART:20271031T010000
END:STANDARD
END:VTIMEZONE
BEGIN:VEVENT
DTSTART;TZID=Europe/Paris:20260129T163000
DTEND;TZID=Europe/Paris:20260129T193000
DTSTAMP:20260420T060825
CREATED:20250924T082322Z
LAST-MODIFIED:20250924T082322Z
UID:18384-1769704200-1769715000@www.cowleyacademy.org.uk
SUMMARY:Year 11 Online Parents Evening
DESCRIPTION:
URL:https://www.cowleyacademy.org.uk/event/year-11-online-parents-evening-2/
CATEGORIES:Parents Evenings
END:VEVENT
BEGIN:VEVENT
DTSTART;TZID=Europe/Paris:20260319T163000
DTEND;TZID=Europe/Paris:20260319T193000
DTSTAMP:20260420T060825
CREATED:20250924T082351Z
LAST-MODIFIED:20250924T082351Z
UID:18386-1773937800-1773948600@www.cowleyacademy.org.uk
SUMMARY:Year 8 Online Parents Evening
DESCRIPTION:
URL:https://www.cowleyacademy.org.uk/event/year-8-online-parents-evening-2/
CATEGORIES:Parents Evenings
END:VEVENT
BEGIN:VEVENT
DTSTART;TZID=Europe/Paris:20260514T163000
DTEND;TZID=Europe/Paris:20260514T193000
DTSTAMP:20260420T060825
CREATED:20250924T082504Z
LAST-MODIFIED:20250924T082504Z
UID:18388-1778776200-1778787000@www.cowleyacademy.org.uk
SUMMARY:Year 10 Online Parents Evening
DESCRIPTION:
URL:https://www.cowleyacademy.org.uk/event/year-10-online-parents-evening-2/
CATEGORIES:Parents Evenings
END:VEVENT
BEGIN:VEVENT
DTSTART;TZID=Europe/Paris:20260611T163000
DTEND;TZID=Europe/Paris:20260611T203000
DTSTAMP:20260420T060825
CREATED:20250924T082535Z
LAST-MODIFIED:20250924T082535Z
UID:18390-1781195400-1781209800@www.cowleyacademy.org.uk
SUMMARY:Year 7 Virtual Online Progress Parents Evening
DESCRIPTION:
URL:https://www.cowleyacademy.org.uk/event/year-7-virtual-online-progress-parents-evening-2/
CATEGORIES:Parents Evenings
END:VEVENT
END:VCALENDAR