BEGIN:VCALENDAR
VERSION:2.0
PRODID:-//Cowley Academy - ECPv6.15.20//NONSGML v1.0//EN
CALSCALE:GREGORIAN
METHOD:PUBLISH
X-WR-CALNAME:Cowley Academy
X-ORIGINAL-URL:https://www.cowleyacademy.org.uk
X-WR-CALDESC:Events for Cowley Academy
REFRESH-INTERVAL;VALUE=DURATION:PT1H
X-Robots-Tag:noindex
X-PUBLISHED-TTL:PT1H
BEGIN:VTIMEZONE
TZID:Europe/Paris
BEGIN:DAYLIGHT
TZOFFSETFROM:+0100
TZOFFSETTO:+0200
TZNAME:CEST
DTSTART:20230326T010000
END:DAYLIGHT
BEGIN:STANDARD
TZOFFSETFROM:+0200
TZOFFSETTO:+0100
TZNAME:CET
DTSTART:20231029T010000
END:STANDARD
BEGIN:DAYLIGHT
TZOFFSETFROM:+0100
TZOFFSETTO:+0200
TZNAME:CEST
DTSTART:20240331T010000
END:DAYLIGHT
BEGIN:STANDARD
TZOFFSETFROM:+0200
TZOFFSETTO:+0100
TZNAME:CET
DTSTART:20241027T010000
END:STANDARD
BEGIN:DAYLIGHT
TZOFFSETFROM:+0100
TZOFFSETTO:+0200
TZNAME:CEST
DTSTART:20250330T010000
END:DAYLIGHT
BEGIN:STANDARD
TZOFFSETFROM:+0200
TZOFFSETTO:+0100
TZNAME:CET
DTSTART:20251026T010000
END:STANDARD
BEGIN:DAYLIGHT
TZOFFSETFROM:+0100
TZOFFSETTO:+0200
TZNAME:CEST
DTSTART:20260329T010000
END:DAYLIGHT
BEGIN:STANDARD
TZOFFSETFROM:+0200
TZOFFSETTO:+0100
TZNAME:CET
DTSTART:20261025T010000
END:STANDARD
END:VTIMEZONE
BEGIN:VEVENT
DTSTART;TZID=Europe/Paris:20250702T190000
DTEND;TZID=Europe/Paris:20250702T210000
DTSTAMP:20260419T202049
CREATED:20250115T084435Z
LAST-MODIFIED:20250115T084435Z
UID:16202-1751482800-1751490000@www.cowleyacademy.org.uk
SUMMARY:School Production
DESCRIPTION:
URL:https://www.cowleyacademy.org.uk/event/school-production/
END:VEVENT
BEGIN:VEVENT
DTSTART;VALUE=DATE:20250627
DTEND;VALUE=DATE:20250628
DTSTAMP:20260419T202049
CREATED:20250115T084312Z
LAST-MODIFIED:20250115T084312Z
UID:16200-1750982400-1751068799@www.cowleyacademy.org.uk
SUMMARY:Year 6 Taster Day
DESCRIPTION:
URL:https://www.cowleyacademy.org.uk/event/year-6-taster-day-2/
END:VEVENT
BEGIN:VEVENT
DTSTART;TZID=Europe/Paris:20250626T153000
DTEND;TZID=Europe/Paris:20250626T170000
DTSTAMP:20260419T202049
CREATED:20250115T084253Z
LAST-MODIFIED:20250115T084253Z
UID:16198-1750951800-1750957200@www.cowleyacademy.org.uk
SUMMARY:Year 6 Virtual Information Evening
DESCRIPTION:
URL:https://www.cowleyacademy.org.uk/event/year-6-virtual-information-evening/
CATEGORIES:Parents Evenings
END:VEVENT
BEGIN:VEVENT
DTSTART;TZID=Europe/Paris:20250626T120000
DTEND;TZID=Europe/Paris:20250626T153000
DTSTAMP:20260419T202049
CREATED:20250115T084207Z
LAST-MODIFIED:20250115T084207Z
UID:16196-1750939200-1750951800@www.cowleyacademy.org.uk
SUMMARY:Sports Day
DESCRIPTION:
URL:https://www.cowleyacademy.org.uk/event/sports-day-2/
CATEGORIES:Sporting Events
END:VEVENT
BEGIN:VEVENT
DTSTART;TZID=Europe/Paris:20250624T183000
DTEND;TZID=Europe/Paris:20250624T223000
DTSTAMP:20260419T202049
CREATED:20250115T084057Z
LAST-MODIFIED:20250115T084057Z
UID:16194-1750789800-1750804200@www.cowleyacademy.org.uk
SUMMARY:Year 11 Prom - Boston United Football Club
DESCRIPTION:
URL:https://www.cowleyacademy.org.uk/event/year-11-prom-boston-united-football-club-2/
END:VEVENT
BEGIN:VEVENT
DTSTART;TZID=Europe/Paris:20250605T153000
DTEND;TZID=Europe/Paris:20250605T180000
DTSTAMP:20260419T202049
CREATED:20250115T083929Z
LAST-MODIFIED:20250115T083929Z
UID:16192-1749137400-1749146400@www.cowleyacademy.org.uk
SUMMARY:Year 10 SLAT Games
DESCRIPTION:
URL:https://www.cowleyacademy.org.uk/event/year-10-slat-games-2/
CATEGORIES:Sporting Events
END:VEVENT
BEGIN:VEVENT
DTSTART;VALUE=DATE:20250602
DTEND;VALUE=DATE:20250603
DTSTAMP:20260419T202049
CREATED:20250115T083854Z
LAST-MODIFIED:20250115T083854Z
UID:16190-1748822400-1748908799@www.cowleyacademy.org.uk
SUMMARY:Term 6 Starts
DESCRIPTION:
URL:https://www.cowleyacademy.org.uk/event/term-6-starts-2/
CATEGORIES:Term Dates
END:VEVENT
BEGIN:VEVENT
DTSTART;VALUE=DATE:20250523
DTEND;VALUE=DATE:20250524
DTSTAMP:20260419T202049
CREATED:20250114T150649Z
LAST-MODIFIED:20250114T150649Z
UID:16188-1747958400-1748044799@www.cowleyacademy.org.uk
SUMMARY:Term Ends
DESCRIPTION:
URL:https://www.cowleyacademy.org.uk/event/term-ends-13/
CATEGORIES:Term Dates
END:VEVENT
BEGIN:VEVENT
DTSTART;TZID=Europe/Paris:20250522T163000
DTEND;TZID=Europe/Paris:20250522T193000
DTSTAMP:20260419T202049
CREATED:20250114T150539Z
LAST-MODIFIED:20250114T150539Z
UID:16186-1747931400-1747942200@www.cowleyacademy.org.uk
SUMMARY:Year 10 Online Parents Evening
DESCRIPTION:
URL:https://www.cowleyacademy.org.uk/event/year-10-online-parents-evening/
CATEGORIES:Parents Evenings
END:VEVENT
BEGIN:VEVENT
DTSTART;TZID=Europe/Paris:20250519T153000
DTEND;TZID=Europe/Paris:20250519T180000
DTSTAMP:20260419T202049
CREATED:20250114T150455Z
LAST-MODIFIED:20250114T150455Z
UID:16184-1747668600-1747677600@www.cowleyacademy.org.uk
SUMMARY:Year 9 Summer SLAT Games
DESCRIPTION:
URL:https://www.cowleyacademy.org.uk/event/year-9-summer-slat-games/
CATEGORIES:Sporting Events
END:VEVENT
BEGIN:VEVENT
DTSTART;TZID=Europe/Paris:20250514T153000
DTEND;TZID=Europe/Paris:20250514T180000
DTSTAMP:20260419T202049
CREATED:20250114T150414Z
LAST-MODIFIED:20250114T150414Z
UID:16182-1747236600-1747245600@www.cowleyacademy.org.uk
SUMMARY:Year 8 SLAT Games
DESCRIPTION:
URL:https://www.cowleyacademy.org.uk/event/year-8-slat-games-2/
CATEGORIES:Sporting Events
END:VEVENT
BEGIN:VEVENT
DTSTART;VALUE=DATE:20250423
DTEND;VALUE=DATE:20250424
DTSTAMP:20260419T202049
CREATED:20250114T150302Z
LAST-MODIFIED:20250114T150302Z
UID:16180-1745366400-1745452799@www.cowleyacademy.org.uk
SUMMARY:Term 5 Starts
DESCRIPTION:
URL:https://www.cowleyacademy.org.uk/event/term-5-starts-2/
CATEGORIES:Term Dates
END:VEVENT
BEGIN:VEVENT
DTSTART;VALUE=DATE:20250422
DTEND;VALUE=DATE:20250423
DTSTAMP:20260419T202049
CREATED:20250114T150240Z
LAST-MODIFIED:20250114T150240Z
UID:16178-1745280000-1745366399@www.cowleyacademy.org.uk
SUMMARY:Staff Training Day
DESCRIPTION:
URL:https://www.cowleyacademy.org.uk/event/staff-training-day-4/
CATEGORIES:Term Dates
END:VEVENT
BEGIN:VEVENT
DTSTART;VALUE=DATE:20250404
DTEND;VALUE=DATE:20250405
DTSTAMP:20260419T202049
CREATED:20250114T150134Z
LAST-MODIFIED:20250114T150134Z
UID:16176-1743724800-1743811199@www.cowleyacademy.org.uk
SUMMARY:Term Ends
DESCRIPTION:
URL:https://www.cowleyacademy.org.uk/event/term-ends-12/
CATEGORIES:Term Dates
END:VEVENT
BEGIN:VEVENT
DTSTART;TZID=Europe/Paris:20250327T183000
DTEND;TZID=Europe/Paris:20250327T193000
DTSTAMP:20260419T202049
CREATED:20250114T145729Z
LAST-MODIFIED:20250114T145729Z
UID:16174-1743100200-1743103800@www.cowleyacademy.org.uk
SUMMARY:Year 11 Exam Success Evening
DESCRIPTION:
URL:https://www.cowleyacademy.org.uk/event/year-11-exam-success-evening-2/
END:VEVENT
BEGIN:VEVENT
DTSTART;TZID=Europe/Paris:20250324T153000
DTEND;TZID=Europe/Paris:20250324T180000
DTSTAMP:20260419T202049
CREATED:20250114T145638Z
LAST-MODIFIED:20250114T145638Z
UID:16172-1742830200-1742839200@www.cowleyacademy.org.uk
SUMMARY:Year 7 SLAT Games
DESCRIPTION:
URL:https://www.cowleyacademy.org.uk/event/year-7-slat-games/
CATEGORIES:Sporting Events
END:VEVENT
BEGIN:VEVENT
DTSTART;TZID=Europe/Paris:20250320T163000
DTEND;TZID=Europe/Paris:20250320T193000
DTSTAMP:20260419T202049
CREATED:20250114T145546Z
LAST-MODIFIED:20250114T145546Z
UID:16170-1742488200-1742499000@www.cowleyacademy.org.uk
SUMMARY:Year 8 Online Parents Evening
DESCRIPTION:
URL:https://www.cowleyacademy.org.uk/event/year-8-online-parents-evening/
CATEGORIES:Parents Evenings
END:VEVENT
BEGIN:VEVENT
DTSTART;TZID=Europe/Paris:20250319T153000
DTEND;TZID=Europe/Paris:20250319T180000
DTSTAMP:20260419T202049
CREATED:20250114T145514Z
LAST-MODIFIED:20250114T145514Z
UID:16168-1742398200-1742407200@www.cowleyacademy.org.uk
SUMMARY:Year 8 SLAT Games
DESCRIPTION:
URL:https://www.cowleyacademy.org.uk/event/year-8-slat-games/
CATEGORIES:Sporting Events
END:VEVENT
BEGIN:VEVENT
DTSTART;TZID=Europe/Paris:20250310T080000
DTEND;TZID=Europe/Paris:20250314T170000
DTSTAMP:20260419T202049
CREATED:20250114T143848Z
LAST-MODIFIED:20250114T143848Z
UID:16164-1741593600-1741971600@www.cowleyacademy.org.uk
SUMMARY:National Careers Week
DESCRIPTION:
URL:https://www.cowleyacademy.org.uk/event/national-careers-week-3/
CATEGORIES:National Events
END:VEVENT
BEGIN:VEVENT
DTSTART;VALUE=DATE:20250310
DTEND;VALUE=DATE:20250311
DTSTAMP:20260419T202049
CREATED:20250114T143913Z
LAST-MODIFIED:20250114T143913Z
UID:16166-1741564800-1741651199@www.cowleyacademy.org.uk
SUMMARY:Year 9 Prison Me No Way Day
DESCRIPTION:
URL:https://www.cowleyacademy.org.uk/event/year-9-prison-me-no-way-day/
END:VEVENT
BEGIN:VEVENT
DTSTART;VALUE=DATE:20250307
DTEND;VALUE=DATE:20250308
DTSTAMP:20260419T202049
CREATED:20250114T143818Z
LAST-MODIFIED:20250114T143818Z
UID:16162-1741305600-1741391999@www.cowleyacademy.org.uk
SUMMARY:International Womens Day
DESCRIPTION:
URL:https://www.cowleyacademy.org.uk/event/international-womens-day-2/
CATEGORIES:National Events
END:VEVENT
BEGIN:VEVENT
DTSTART;TZID=Europe/Paris:20250303T153000
DTEND;TZID=Europe/Paris:20250303T180000
DTSTAMP:20260419T202049
CREATED:20250114T143723Z
LAST-MODIFIED:20250114T143723Z
UID:16160-1741015800-1741024800@www.cowleyacademy.org.uk
SUMMARY:Year 9 SLAT Games
DESCRIPTION:
URL:https://www.cowleyacademy.org.uk/event/year-9-slat-games/
CATEGORIES:Sporting Events
END:VEVENT
BEGIN:VEVENT
DTSTART;TZID=Europe/Paris:20250225T153000
DTEND;TZID=Europe/Paris:20250225T180000
DTSTAMP:20260419T202049
CREATED:20250114T143641Z
LAST-MODIFIED:20250114T143641Z
UID:16158-1740497400-1740506400@www.cowleyacademy.org.uk
SUMMARY:Year 10 SLAT Games
DESCRIPTION:
URL:https://www.cowleyacademy.org.uk/event/year-10-slat-games/
CATEGORIES:Sporting Events
END:VEVENT
BEGIN:VEVENT
DTSTART;VALUE=DATE:20250224
DTEND;VALUE=DATE:20250225
DTSTAMP:20260419T202049
CREATED:20250114T143609Z
LAST-MODIFIED:20250114T143609Z
UID:16156-1740355200-1740441599@www.cowleyacademy.org.uk
SUMMARY:Term 4 Starts
DESCRIPTION:
URL:https://www.cowleyacademy.org.uk/event/term-4-starts-2/
CATEGORIES:Term Dates
END:VEVENT
BEGIN:VEVENT
DTSTART;VALUE=DATE:20250214
DTEND;VALUE=DATE:20250215
DTSTAMP:20260419T202049
CREATED:20250114T143312Z
LAST-MODIFIED:20250114T143312Z
UID:16154-1739491200-1739577599@www.cowleyacademy.org.uk
SUMMARY:Term Ends
DESCRIPTION:
URL:https://www.cowleyacademy.org.uk/event/term-ends/
CATEGORIES:Term Dates
END:VEVENT
BEGIN:VEVENT
DTSTART;TZID=Europe/Paris:20250213T080000
DTEND;TZID=Europe/Paris:20250213T083000
DTSTAMP:20260419T202049
CREATED:20250114T143240Z
LAST-MODIFIED:20250114T143240Z
UID:16152-1739433600-1739435400@www.cowleyacademy.org.uk
SUMMARY:Prefect Breakfast
DESCRIPTION:
URL:https://www.cowleyacademy.org.uk/event/prefect-breakfast-5/
END:VEVENT
BEGIN:VEVENT
DTSTART;TZID=Europe/Paris:20250130T163000
DTEND;TZID=Europe/Paris:20250130T193000
DTSTAMP:20260419T202049
CREATED:20250114T142640Z
LAST-MODIFIED:20250114T142640Z
UID:16150-1738254600-1738265400@www.cowleyacademy.org.uk
SUMMARY:Year 11 Online Parents Evening
DESCRIPTION:
URL:https://www.cowleyacademy.org.uk/event/year-11-online-parents-evening/
CATEGORIES:Parents Evenings
END:VEVENT
BEGIN:VEVENT
DTSTART;VALUE=DATE:20240719
DTEND;VALUE=DATE:20240720
DTSTAMP:20260419T202049
CREATED:20230726T073325Z
LAST-MODIFIED:20230726T073325Z
UID:12547-1721347200-1721433599@www.cowleyacademy.org.uk
SUMMARY:Term Ends
DESCRIPTION:
URL:https://www.cowleyacademy.org.uk/event/term-ends-11/
CATEGORIES:Term Dates
END:VEVENT
BEGIN:VEVENT
DTSTART;TZID=Europe/Paris:20240711T080000
DTEND;TZID=Europe/Paris:20240711T083000
DTSTAMP:20260419T202049
CREATED:20231016T105444Z
LAST-MODIFIED:20231016T105444Z
UID:13245-1720684800-1720686600@www.cowleyacademy.org.uk
SUMMARY:Year 10 Prefect Breakfast
DESCRIPTION:
URL:https://www.cowleyacademy.org.uk/event/year-10-prefect-breakfast-3/
END:VEVENT
BEGIN:VEVENT
DTSTART;TZID=Europe/Paris:20240709T180000
DTEND;TZID=Europe/Paris:20240709T193000
DTSTAMP:20260419T202049
CREATED:20231016T105407Z
LAST-MODIFIED:20231016T105407Z
UID:13243-1720548000-1720553400@www.cowleyacademy.org.uk
SUMMARY:End of Year House Celebration Evening
DESCRIPTION:
URL:https://www.cowleyacademy.org.uk/event/end-of-year-house-celebration-evening/
END:VEVENT
END:VCALENDAR