BEGIN:VCALENDAR
VERSION:2.0
PRODID:-//Cowley Academy - ECPv6.15.20//NONSGML v1.0//EN
CALSCALE:GREGORIAN
METHOD:PUBLISH
X-ORIGINAL-URL:https://www.cowleyacademy.org.uk
X-WR-CALDESC:Events for Cowley Academy
REFRESH-INTERVAL;VALUE=DURATION:PT1H
X-Robots-Tag:noindex
X-PUBLISHED-TTL:PT1H
BEGIN:VTIMEZONE
TZID:Europe/Paris
BEGIN:DAYLIGHT
TZOFFSETFROM:+0100
TZOFFSETTO:+0200
TZNAME:CEST
DTSTART:20230326T010000
END:DAYLIGHT
BEGIN:STANDARD
TZOFFSETFROM:+0200
TZOFFSETTO:+0100
TZNAME:CET
DTSTART:20231029T010000
END:STANDARD
BEGIN:DAYLIGHT
TZOFFSETFROM:+0100
TZOFFSETTO:+0200
TZNAME:CEST
DTSTART:20240331T010000
END:DAYLIGHT
BEGIN:STANDARD
TZOFFSETFROM:+0200
TZOFFSETTO:+0100
TZNAME:CET
DTSTART:20241027T010000
END:STANDARD
BEGIN:DAYLIGHT
TZOFFSETFROM:+0100
TZOFFSETTO:+0200
TZNAME:CEST
DTSTART:20250330T010000
END:DAYLIGHT
BEGIN:STANDARD
TZOFFSETFROM:+0200
TZOFFSETTO:+0100
TZNAME:CET
DTSTART:20251026T010000
END:STANDARD
END:VTIMEZONE
BEGIN:VEVENT
DTSTART;TZID=Europe/Paris:20240709T180000
DTEND;TZID=Europe/Paris:20240709T193000
DTSTAMP:20260419T220040
CREATED:20231016T105407Z
LAST-MODIFIED:20231016T105407Z
UID:13243-1720548000-1720553400@www.cowleyacademy.org.uk
SUMMARY:End of Year House Celebration Evening
DESCRIPTION:
URL:https://www.cowleyacademy.org.uk/event/end-of-year-house-celebration-evening/
END:VEVENT
BEGIN:VEVENT
DTSTART;VALUE=DATE:20240628
DTEND;VALUE=DATE:20240629
DTSTAMP:20260419T220040
CREATED:20231016T105324Z
LAST-MODIFIED:20231016T105324Z
UID:13241-1719532800-1719619199@www.cowleyacademy.org.uk
SUMMARY:Year 6 Taster Day
DESCRIPTION:
URL:https://www.cowleyacademy.org.uk/event/year-6-taster-day/
END:VEVENT
BEGIN:VEVENT
DTSTART;TZID=Europe/Paris:20240627T180000
DTEND;TZID=Europe/Paris:20240627T193000
DTSTAMP:20260419T220040
CREATED:20231016T105303Z
LAST-MODIFIED:20231016T105303Z
UID:13239-1719511200-1719516600@www.cowleyacademy.org.uk
SUMMARY:Year 6 Parent Virtual Information Evening
DESCRIPTION:
URL:https://www.cowleyacademy.org.uk/event/year-6-parent-virtual-information-evening-2/
END:VEVENT
BEGIN:VEVENT
DTSTART;TZID=Europe/Paris:20240626T183000
DTEND;TZID=Europe/Paris:20240626T223000
DTSTAMP:20260419T220040
CREATED:20231016T105209Z
LAST-MODIFIED:20240612T152049Z
UID:13237-1719426600-1719441000@www.cowleyacademy.org.uk
SUMMARY:Year 11 Prom Boston United Football Club
DESCRIPTION:
URL:https://www.cowleyacademy.org.uk/event/year-11-prom-boston-united-football-club/
END:VEVENT
BEGIN:VEVENT
DTSTART;VALUE=DATE:20240605
DTEND;VALUE=DATE:20240606
DTSTAMP:20260419T220040
CREATED:20231016T105121Z
LAST-MODIFIED:20231016T105121Z
UID:13235-1717545600-1717631999@www.cowleyacademy.org.uk
SUMMARY:County Athletics
DESCRIPTION:
URL:https://www.cowleyacademy.org.uk/event/county-athletics/
CATEGORIES:Sporting Events
END:VEVENT
BEGIN:VEVENT
DTSTART;VALUE=DATE:20240603
DTEND;VALUE=DATE:20240604
DTSTAMP:20260419T220040
CREATED:20230726T073308Z
LAST-MODIFIED:20230726T073308Z
UID:12545-1717372800-1717459199@www.cowleyacademy.org.uk
SUMMARY:Term 6 Begins
DESCRIPTION:
URL:https://www.cowleyacademy.org.uk/event/term-6-begins/
CATEGORIES:Term Dates
END:VEVENT
BEGIN:VEVENT
DTSTART;VALUE=DATE:20240524
DTEND;VALUE=DATE:20240525
DTSTAMP:20260419T220040
CREATED:20230726T073204Z
LAST-MODIFIED:20230726T073204Z
UID:12543-1716508800-1716595199@www.cowleyacademy.org.uk
SUMMARY:Term Ends
DESCRIPTION:
URL:https://www.cowleyacademy.org.uk/event/term-ends-10/
CATEGORIES:Term Dates
END:VEVENT
BEGIN:VEVENT
DTSTART;TZID=Europe/Paris:20240516T163000
DTEND;TZID=Europe/Paris:20240516T193000
DTSTAMP:20260419T220040
CREATED:20231016T105043Z
LAST-MODIFIED:20231016T105043Z
UID:13233-1715877000-1715887800@www.cowleyacademy.org.uk
SUMMARY:Year 10 Virtual Online Parents Evening
DESCRIPTION:
URL:https://www.cowleyacademy.org.uk/event/year-10-virtual-online-parents-evening/
CATEGORIES:Parents Evenings
END:VEVENT
BEGIN:VEVENT
DTSTART;VALUE=DATE:20240513
DTEND;VALUE=DATE:20240514
DTSTAMP:20260419T220040
CREATED:20231016T104945Z
LAST-MODIFIED:20231016T104945Z
UID:13231-1715558400-1715644799@www.cowleyacademy.org.uk
SUMMARY:External Exams Begin
DESCRIPTION:
URL:https://www.cowleyacademy.org.uk/event/external-exams-begin-3/
END:VEVENT
BEGIN:VEVENT
DTSTART;VALUE=DATE:20240506
DTEND;VALUE=DATE:20240507
DTSTAMP:20260419T220040
CREATED:20230726T073147Z
LAST-MODIFIED:20230726T073147Z
UID:12541-1714953600-1715039999@www.cowleyacademy.org.uk
SUMMARY:Bank Holiday
DESCRIPTION:
URL:https://www.cowleyacademy.org.uk/event/bank-holiday-2/
CATEGORIES:National Events
END:VEVENT
BEGIN:VEVENT
DTSTART;VALUE=DATE:20240422
DTEND;VALUE=DATE:20240423
DTSTAMP:20260419T220040
CREATED:20231016T104750Z
LAST-MODIFIED:20231016T104830Z
UID:13229-1713744000-1713830399@www.cowleyacademy.org.uk
SUMMARY:GCSE Practical Art/ Textile/Photo Exam Week
DESCRIPTION:
URL:https://www.cowleyacademy.org.uk/event/gcse-practical-art-textile-photo-exam-week/
END:VEVENT
END:VCALENDAR